Workbook
Name RAT: #REF!
Name SIMNAO: #REF!

Sheet LEIA-ME
A1: PLANILHAS DE CUSTOS E FORMAÇÃO DE PREÇOS
A2: - Esta planilha é parte integrante do Pregão abaixo especificado - O correto preenchimento da planilha é de responsabilidade da Empresa Licitante. - O não preenchimento, o preenchimento incorreto ou o não envio é poderá resultar em desclassificação da Empresa Licitante, conforme regras constantes no EDITAL e no Termo de Referência do Pregão.
A3: Licitação Nº
A4: Objeto | D4: Fornecimento de serviços de sustentação e de implantação de novas funcionalidades da solução Core Banking da Finep, Sydle One.
A5: Data do Pregão:
A6: CONTEÚDO DO ARQUIVO
A7: Este arquivo é composto das abas abaixo relacionadas:
A8: Número | B8: Nome da aba | E8: Conteúdo da aba | I8: INSTRUÇÕES DE PREENCHIMENTO
A9: 1 | B9: LEIA-ME | E9: Contém as instruções de preenchimento. | I9: Nada deverá ser editado nesta aba
A10: 2 | B10: Dados da Empresa | E10: Nome da Empresa, CNPJ e dados do contato. | I10: Preencher somente as células na cor amarela. - Os dados, após preenchidos nesta aba, serão transferidos para as outras.
A11: 3 | B11: PERFIS | E11: Relação dos perfis profissionais que irão compor a equipe executora do contrato. | I11: Preencher somente as células na cor amarela. - Os existentes na Portaria SGD/MGI nº 750 o encontram-se preenchidos na planilha sem os valores salariais e os custos para as Empresas. - É permitida a inclusão de outros perfis profissionais na tabela. - Devem ser preenchidas as células referentes ao perfil profissional e o seu salário de acordo com os perfis que irão compor a equipe executora, o custo do perfil profissional para a Empresa será obtido a partir do preenchimento das abas na cor vermelha específicas para esta finalidade, caso a Empresa necessite poderá criar outras ou adaptar as já existentes. - Os nomes dos perfis profissionais, salários e custo para a Empresa serão transportados para as outras planilhas com abas amarelas, não será necessário preencher nas outras abas. OBS.: O custo do perfil profissional para a Empresa não é apenas o salário, mas a soma de todos os investimentos necessários para atrair, contratar e manter um colaborador com as competências desejadas, incluindo os benefícios, impostos e taxas.
A12: 4 | B12: SERVIÇO S1 | E12: Sustentação | I12: Preencher somente as células na cor amarela. - Aba destinada a calcular o valor mensal do serviço S1 - Sustentação. - O campo referente ao Perfil profissional é uma caixa de seleção, após a escolha dos perfis profissionais que farão parte da equipe, o salário e o custo do profissional para a Empresa estarão preenchidos com os valores informados na planilha "PERFIS", será necessário completar o preenchimento com a alocação do tempo do profissional em % (a taxa de alocação é referente ao percentual do tempo mensal que o perfil profissional estará alocado na atividade) e a quantidade de profissionais que irão compor a equipe de acordo com o perfil escolhido. - Caso existam custos adicionais com os membros da equipe, tais como equipamentos ou softwares as células em amarelo na parte inferior do formulário devem ser preenchidas, os valores serão calculados e adicionados aos custos de cada profissional. - Ao final do preenchimento a planilha informará o custo fixo por mês do serviço na célula em azul escuro, que não deverá ser editada, este valor será transferido para a aba "PLANILHA DE PREÇOS".
A13: 5 | B13: SERVIÇO S2WEB | E13: Implantação de novas funcionalidades para requisitos WEB. | I13: Preencher somente as células na cor amarela. - Abas destinadas a calcular o valor de cada tipo de sprint S2WEB ou S2IA. - O campo referente ao Perfil profissional é uma caixa de seleção, após a escolha dos perfis profissionais que farão parte da equipe, o salário e o custo do profissional para a Empresa estarão preenchidos com os valores informados na planilha "PERFIS", será necessário completar o preenchimento com a alocação do tempo do profissional em % (a taxa de alocação é referente ao percentual do tempo mensal que o perfil profissional estará alocado na atividade) e a quantidade de profissionais que irão compor a equipe de acordo com o perfil escolhido. - Caso existam custos adicionais com os membros da equipe, tais como equipamentos ou softwares as células em amarelo na parte inferior do formulário devem ser preenchidas, os valores serão calculados e adicionados aos custos de cada profissional. - Ao final do preenchimento a planilha informará o custo de cada SPRINT na célula em azul escuro, que não deverá ser editada, este valor será transferido para a aba "PLANILHA DE PREÇOS".
A14: 6 | B14: SERVIÇO S2IA | E14: Implantação de novas funcionalidades para requisitos de Inteligência Artificial.
A15: 9 | B15: PLANILHA DE PREÇOS | E15: Planilha final de preços da Empresa Licitante | I15: NÃO ALTERAR CÉLULAS PREENCHIMENTO AUTOMÁTICO
A16: 10 | B16: ARQSOF-01 | E16: Planilha de custos e formação de preços de cada perfil profissional. | I16: - A célula A1 de cada uma das abas, contém o nome do Perfil Profissional existente na abas Perfis, a célula não deverá ser editada. - A célula D6 de cada uma das abas é preenchida de forma automática de acordo com o nome do Perfil Profissional correspondente ao perfil na célula A1 e valor de seu salário na ABA PERFIS, a célula não deve ser editada. - Os demais campos de cada uma das abas serão calculados de acordo com os parâmetros existentes da planilha composição. - A Empresa Licitante poderá adaptar o preenchimento das células de acordo com o modelo de contratação de pessoal da Licitante, por exemplo: CLT, Contratação de Pessoa Jurídica, Participação societária. - Ao final do preenchimento as Células D83 e D84 calularão o valor mensal do cousto do Perfil Profissional para a Empresa e o fator-k do Perfil Preofissional, as células não deverão ser editadas e seus valores serão migrados para os respectivos campos da aba Perfis.
A17: 11 | B17: ARQSOF-02 | C17: ARQSOF-02 | D17: ARQSOF-02
A18: 12 | B18: ATQ-01 | C18: ATQ-01 | D18: ATQ-01
A19: 13 | B19: ATQ-02 | C19: ATQ-02 | D19: ATQ-02
A20: 14 | B20: ATQ-03 | C20: ATQ-03 | D20: ATQ-03
A21: 15 | B21: DESENV-01 | C21: DESENV-01 | D21: DESENV-01
A22: 16 | B22: DESENV-02 | C22: DESENV-02 | D22: DESENV-02
A23: 17 | B23: DESENV-03 | C23: DESENV-03 | D23: DESENV-03
A24: 18 | B24: ANR-01 | C24: ANR-01 | D24: ANR-01
A25: =A24+1 -> 19 | B25: ANR-02 | C25: ANR-02 | D25: ANR-02
A26: =A25+1 -> 20 | B26: ANR-03 | C26: ANR-03 | D26: ANR-03
A27: =A26+1 -> 21 | B27: ABI-01 | C27: ABI-01 | D27: ABI-01
A28: =A27+1 -> 22 | B28: ABI-02 | C28: ABI-02 | D28: ABI-02
A29: =A28+1 -> 23 | B29: ABI-03 | C29: ABI-03 | D29: ABI-03
A30: =A29+1 -> 24 | B30: ADADOS-02 | C30: ADADOS-02 | D30: ADADOS-02
A31: =A30+1 -> 25 | B31: ADADOS-03 | C31: ADADOS-03 | D31: ADADOS-03
A32: =A31+1 -> 26 | B32: LDESENV | C32: LDESENV | D32: LDESENV
A33: =A32+1 -> 27 | B33: SCRUM | C33: SCRUM | D33: SCRUM
A34: =A33+1 -> 28 | B34: GERPRO | C34: GERPRO | D34: GERPRO
A35: =A34+1 -> 29 | B35: AUX_UI-01 | C35: AUX_UI-01 | D35: AUX_UI-01
A36: =A35+1 -> 30 | B36: AUX_UI-02 | C36: AUX_UI-02 | D36: AUX_UI-02
... A48: =A47+1 -> 42 | B48: METRICA-03 | C48: METRICA-03 | D48: METRICA-03
A49: =A48+1 -> 43 | B49: COMPOSICAO | E49: Planilha utilizada para os cálculos dos custos de cada perfil. | I49: Editar de acordo com a necessidade.

Sheet Dados da Empresa
B2: Dados da Empresa
E3: PREENCHA APENAS AS CÉLULAS EM AMARELO
B4: Nome da Empresa
B5: CNPJ
B6: Contato
B7: E-mail
B8: Telefone
B12: A presente Planilha de Custos e Formação de Preços possui caráter referencial e destina-se à análise da composição dos preços ofertados. Os custos e encargos poderão ser adequados pela licitante conforme sua estrutura empresarial e modelo de contratação de pessoal, desde que os valores apresentados sejam compatíveis com a execução do objeto e observem a legislação aplicável.

Sheet Perfis
A2: Aba da composição de custos | B2: Perfis Profissionais | C2: Salário Base | D2: Custo do Perfil | E2: Fator-k
A3: ARQSOF-01 | B3: Arquiteto de Software - Pleno | C3: 0 | D3: ='ARQSOF-01'!$D$83 -> 0 | E3: =IFERROR('ARQSOF-01'!$D$84,0) -> 0 | G3: PREENCHA APENAS AS CÉLULAS EM AMARELO
A4: ARQSOF-02 | B4: Arquiteto de Software - Sênior | C4: 0 | D4: ='ARQSOF-02'!$D$83 -> 0 | E4: =IFERROR('ARQSOF-02'!$D$84,0) -> 0
A5: ATQ-01 | B5: Analista de Testes/Qualidade - Júnior | C5: 0 | D5: ='ATQ-01'!$D$83 -> 0 | E5: =IFERROR('ATQ-01'!$D$84,0) -> 0
A6: ATQ-02 | B6: Analista de Testes/Qualidade - Pleno | C6: 0 | D6: ='ATQ-02'!$D$83 -> 0 | E6: =IFERROR('ATQ-02'!$D$84,0) -> 0
A7: ATQ-03 | B7: Analista de Testes/Qualidade - Sênior | C7: 0 | D7: ='ATQ-03'!$D$83 -> 0 | E7: =IFERROR('ATQ-03'!$D$84,0) -> 0
A8: DESENV-01 | B8: Desenvolvedor de Software - Júnior | C8: 0 | D8: ='DESENV-01'!$D$83 -> 0 | E8: =IFERROR('DESENV-01'!$D$84,0) -> 0
A9: DESENV-02 | B9: Desenvolvedor de Software - Pleno | C9: 0 | D9: ='DESENV-02'!$D$83 -> 0 | E9: =IFERROR('DESENV-02'!$D$84,0) -> 0
A10: DESENV-03 | B10: Desenvolvedor de Software - Sênior | C10: 0 | D10: ='DESENV-03'!$D$83 -> 0 | E10: =IFERROR('DESENV-03'!$D$84,0) -> 0
A11: ANR-01 | B11: Analista de Negócios/Requisitos Júnior | C11: 0 | D11: ='ANR-01'!$D$83 -> 0 | E11: =IFERROR('ANR-01'!$D$84,0) -> 0
A12: ANR-02 | B12: Analista de Negócios/Requisitos Pleno | C12: 0 | D12: ='ANR-02'!$D$83 -> 0 | E12: =IFERROR('ANR-02'!$D$84,0) -> 0
A13: ANR-03 | B13: Analista de Negócios/Requisitos Sênior | C13: 0 | D13: ='ANR-03'!$D$83 -> 0 | E13: =IFERROR('ANR-03'!$D$84,0) -> 0
A14: ABI-01 | B14: Analista de BI Júnior | C14: 0 | D14: ='ABI-01'!$D$83 -> 0 | E14: =IFERROR('ABI-01'!$D$84,0) -> 0
A15: ABI-02 | B15: Analista de BI Pleno | C15: 0 | D15: ='ABI-02'!$D$83 -> 0 | E15: =IFERROR('ABI-02'!$D$84,0) -> 0
A16: ABI-03 | B16: Analista de BI Sênior | C16: 0 | D16: ='ABI-03'!$D$83 -> 0 | E16: =IFERROR('ABI-03'!$D$84,0) -> 0
A17: ADADOS-02 | B17: Administrador de Dados Pleno | C17: 0 | D17: ='ADADOS-02'!$D$83 -> 0 | E17: =IFERROR('ADADOS-02'!$D$84,0) -> 0
A18: ADADOS-03 | B18: Administrador de Dados Sênior | C18: 0 | D18: ='ADADOS-03'!$D$83 -> 0 | E18: =IFERROR('ADADOS-03'!$D$84,0) -> 0
A19: LDESENV | B19: Líder Técnico de Desenvolvimento | C19: 0 | D19: =LDESENV!$D$83 -> 0 | E19: =IFERROR(LDESENV!$D$84,0) -> 0
A20: SCRUM | B20: Scrum Master | C20: 0 | D20: =SCRUM!$D$83 -> 0 | E20: =IFERROR(SCRUM!$D$84,0) -> 0
A21: GERPRO | B21: Gerente de Projetos de Tecnologia da Informação | C21: 0 | D21: =GERPRO!$D$83 -> 0 | E21: =IFERROR(GERPRO!$D$84,0) -> 0
A22: AUX_UI-01 | B22: Analista de UX/UI Pleno | C22: 0 | D22: ='AUX_UI-01'!$D$83 -> 0 | E22: =IFERROR('AUX_UI-01'!$D$84,0) -> 0
A23: AUX_UI-02 | B23: Analista de UX/UI Sênior | C23: 0 | D23: ='AUX_UI-02'!$D$83 -> 0 | E23: =IFERROR('AUX_UI-02'!$D$84,0) -> 0
A24: CDADOS-01 | B24: Cientista de Dados Júnior | C24: 0 | D24: ='CDADOS-01'!$D$83 -> 0 | E24: =IFERROR('CDADOS-01'!$D$84,0) -> 0
A25: CDADOS-02 | B25: Cientista de Dados Pleno | C25: 0 | D25: ='CDADOS-02'!$D$83 -> 0 | E25: =IFERROR('CDADOS-02'!$D$84,0) -> 0
A26: CDADOS-03 | B26: Cientista de Dados Sênior | C26: 0 | D26: ='CDADOS-03'!$D$83 -> 0 | E26: =IFERROR('CDADOS-03'!$D$84,0) -> 0
A27: ARQDADOS-01 | B27: Arquiteto de Dados Júnior | C27: 0 | D27: ='ARQDADOS-01'!$D$83 -> 0 | E27: =IFERROR('ARQDADOS-01'!$D$84,0) -> 0
A28: ARQDADOS-02 | B28: Arquiteto de Dados Pleno | C28: 0 | D28: ='ARQDADOS-02'!$D$83 -> 0 | E28: =IFERROR('ARQDADOS-02'!$D$84,0) -> 0
A29: ARQDADOS-03 | B29: Arquiteto de Dados Sênior | C29: 0 | D29: ='ARQDADOS-03'!$D$83 -> 0 | E29: =IFERROR('ARQDADOS-03'!$D$84,0) -> 0
A30: IA-ENG-01 | B30: Engenharia de IA Júnior | C30: 0 | D30: ='IA-ENG-01'!$D$83 -> 0 | E30: =IFERROR('IA-ENG-01'!$D$84,0) -> 0
A31: IA-ENG-02 | B31: Engenharia de IA Pleno | C31: 0 | D31: ='IA-ENG-02'!$D$83 -> 0 | E31: =IFERROR('IA-ENG-02'!$D$84,0) -> 0
A32: IA-ENG-03 | B32: Engenharia de IA Sênior | C32: 0 | D32: ='IA-ENG-03'!$D$83 -> 0 | E32: =IFERROR('IA-ENG-03'!$D$84,0) -> 0
A33: METRICA-01 | B33: Analista de Métricas Júnior | C33: 0 | D33: ='METRICA-01'!$D$83 -> 0 | E33: =IFERROR('METRICA-01'!$D$84,0) -> 0
A34: METRICA-02 | B34: Analista de Métricas Pleno | C34: 0 | D34: ='METRICA-02'!$D$83 -> 0 | E34: =IFERROR('METRICA-02'!$D$84,0) -> 0
A35: METRICA-03 | B35: Analista de Métricas Sênior | C35: 0 | D35: ='METRICA-03'!$D$83 -> 0 | E35: =IFERROR('METRICA-03'!$D$84,0) -> 0

Sheet S1
B2: Perfis da Equipe de Sustentação - S1
B4: Objeto do Pregão | C4: Fornecimento de serviços de sustentação e de implantação de novas funcionalidades da solução Core Banking da Finep, Sydle One.
B5: Nome da Empresa | C5: ='Dados da Empresa'!C4
B6: CNPJ | C6: ='Dados da Empresa'!C5
B7: Item | C7: S1 - Sustentação
B9: Componentes de Custo do Time
B10: Identificação do Perfil Profissional | C10: Salário (S) | D10: Custo Perfil (Cp = S x Fator-k) | E10: Custo Adicionais por perfil (Ca) | F10: Custo total por perfil (Ct = Cp + Ca) | G10: Taxa de Alocação (Ta) | H10: Alocação em horas ( A = Ta x 160) | I10: Qtde. profissionais por perfil (Q) | J10: Horas por perfil (Hp = A x Q) | K10: Custo por Hora (Ch = Ct / 160) | L10: Custo Mensal do Perfil (Cm = A x Q x Ch)
C11: =IFERROR((VLOOKUP($B11,Perfis!$B$3:$E$35,2,FALSE)),"") | D11: =IFERROR(($C11*(VLOOKUP($B11,Perfis!$B$3:$E$35,4,FALSE()))),"") | E11: =IF(($D11=""),"",$L$31) | F11: =IFERROR(($E11+$D11),"") | G11: 0 | H11: =$G11*160 -> 0 | I11: 0 | J11: =$H11*$I11 -> 0 | K11: =IFERROR(TRUNC(($F11/160),2),"") | L11: =IFERROR(TRUNC(($K11*$H11*$I11),2),"") | N11: PREENCHA APENAS AS CÉLULAS EM AMARELO
C12: =IFERROR((VLOOKUP($B12,Perfis!$B$3:$E$35,2,FALSE)),"") | D12: =IFERROR(($C12*(VLOOKUP($B12,Perfis!$B$3:$E$35,4,FALSE()))),"") | E12: =IF(($D12=""),"",$L$31) | F12: =IFERROR(($E12+$D12),"") | G12: 0 | H12: =$G12*160 -> 0 | I12: 0 | J12: =$H12*$I12 -> 0 | K12: =IFERROR(TRUNC(($F12/160),2),"") | L12: =IFERROR(TRUNC(($K12*$H12*$I12),2),"")
C13: =IFERROR((VLOOKUP($B13,Perfis!$B$3:$E$35,2,FALSE)),"") | D13: =IFERROR(($C13*(VLOOKUP($B13,Perfis!$B$3:$E$35,4,FALSE()))),"") | E13: =IF(($D13=""),"",$L$31) | F13: =IFERROR(($E13+$D13),"") | G13: 0 | H13: =$G13*160 -> 0 | I13: 0 | J13: =$H13*$I13 -> 0 | K13: =IFERROR(TRUNC(($F13/160),2),"") | L13: =IFERROR(TRUNC(($K13*$H13*$I13),2),"")
C14: =IFERROR((VLOOKUP($B14,Perfis!$B$3:$E$35,2,FALSE)),"") | D14: =IFERROR(($C14*(VLOOKUP($B14,Perfis!$B$3:$E$35,4,FALSE()))),"") | E14: =IF(($D14=""),"",$L$31) | F14: =IFERROR(($E14+$D14),"") | G14: 0 | H14: =$G14*160 -> 0 | I14: 0 | J14: =$H14*$I14 -> 0 | K14: =IFERROR(TRUNC(($F14/160),2),"") | L14: =IFERROR(TRUNC(($K14*$H14*$I14),2),"")
C15: =IFERROR((VLOOKUP($B15,Perfis!$B$3:$E$35,2,FALSE)),"") | D15: =IFERROR(($C15*(VLOOKUP($B15,Perfis!$B$3:$E$35,4,FALSE()))),"") | E15: =IF(($D15=""),"",$L$31) | F15: =IFERROR(($E15+$D15),"") | G15: 0 | H15: =$G15*160 -> 0 | I15: 0 | J15: =$H15*$I15 -> 0 | K15: =IFERROR(TRUNC(($F15/160),2),"") | L15: =IFERROR(TRUNC(($K15*$H15*$I15),2),"")
C16: =IFERROR((VLOOKUP($B16,Perfis!$B$3:$E$35,2,FALSE)),"") | D16: =IFERROR(($C16*(VLOOKUP($B16,Perfis!$B$3:$E$35,4,FALSE()))),"") | E16: =IF(($D16=""),"",$L$31) | F16: =IFERROR(($E16+$D16),"") | G16: 0 | H16: =$G16*160 -> 0 | I16: 0 | J16: =$H16*$I16 -> 0 | K16: =IFERROR(TRUNC(($F16/160),2),"") | L16: =IFERROR(TRUNC(($K16*$H16*$I16),2),"")
C17: =IFERROR((VLOOKUP($B17,Perfis!$B$3:$E$35,2,FALSE)),"") | D17: =IFERROR(($C17*(VLOOKUP($B17,Perfis!$B$3:$E$35,4,FALSE()))),"") | E17: =IF(($D17=""),"",$L$31) | F17: =IFERROR(($E17+$D17),"") | G17: 0 | H17: =$G17*160 -> 0 | I17: 0 | J17: =$H17*$I17 -> 0 | K17: =IFERROR(TRUNC(($F17/160),2),"") | L17: =IFERROR(TRUNC(($K17*$H17*$I17),2),"")
C18: =IFERROR((VLOOKUP($B18,Perfis!$B$3:$E$35,2,FALSE)),"") | D18: =IFERROR(($C18*(VLOOKUP($B18,Perfis!$B$3:$E$35,4,FALSE()))),"") | E18: =IF(($D18=""),"",$L$31) | F18: =IFERROR(($E18+$D18),"") | G18: 0 | H18: =$G18*160 -> 0 | I18: 0 | J18: =$H18*$I18 -> 0 | K18: =IFERROR(TRUNC(($F18/160),2),"") | L18: =IFERROR(TRUNC(($K18*$H18*$I18),2),"")
C19: =IFERROR((VLOOKUP($B19,Perfis!$B$3:$E$35,2,FALSE)),"") | D19: =IFERROR(($C19*(VLOOKUP($B19,Perfis!$B$3:$E$35,4,FALSE()))),"") | E19: =IF(($D19=""),"",$L$31) | F19: =IFERROR(($E19+$D19),"") | G19: 0 | H19: =$G19*160 -> 0 | I19: 0 | J19: =$H19*$I19 -> 0 | K19: =IFERROR(TRUNC(($F19/160),2),"") | L19: =IFERROR(TRUNC(($K19*$H19*$I19),2),"")
C20: =IFERROR((VLOOKUP($B20,Perfis!$B$3:$E$35,2,FALSE)),"") | D20: =IFERROR(($C20*(VLOOKUP($B20,Perfis!$B$3:$E$35,4,FALSE()))),"") | E20: =IF(($D20=""),"",$L$31) | F20: =IFERROR(($E20+$D20),"") | G20: 0 | H20: =$G20*160 -> 0 | I20: 0 | J20: =$H20*$I20 -> 0 | K20: =IFERROR(TRUNC(($F20/160),2),"") | L20: =IFERROR(TRUNC(($K20*$H20*$I20),2),"")
C21: =IFERROR((VLOOKUP($B21,Perfis!$B$3:$E$35,2,FALSE)),"") | D21: =IFERROR(($C21*(VLOOKUP($B21,Perfis!$B$3:$E$35,4,FALSE()))),"") | E21: =IF(($D21=""),"",$L$31) | F21: =IFERROR(($E21+$D21),"") | G21: 0 | H21: =$G21*160 -> 0 | I21: 0 | J21: =$H21*$I21 -> 0 | K21: =IFERROR(TRUNC(($F21/160),2),"") | L21: =IFERROR(TRUNC(($K21*$H21*$I21),2),"")
B22: Total | I22: =SUM($I11:$I21) -> 0 | J22: =SUM($J11:$J21) -> 0 | K22: =TRUNC(SUM($K11:$K21),2) -> 0 | L22: =TRUNC(SUM($L11:$L21),2) -> 0
B24: Componentes de Custos Adicionais
B25: Descrição | L25: Valor Mensal
B26: Custos com software
B27: Custos com recursos de computação | L27: 0
B28: Custos com equipamentos
B29: Custos com serviços de informações | L29: 0
B30: Outros custos (especificar) | L30: 0
B31: Custos Adicionais por perfil/mês | L31: =IFERROR(TRUNC(SUM(L26:L30),2),"") -> 0
B33: Custo por Mês | L33: =IFERROR(L22,"") -> 0

Sheet S2WEB
B2: Perfis da Equipe dos Sprints - S2WEB
B4: Objeto do Pregão | C4: Fornecimento de serviços de sustentação e de implantação de novas funcionalidades da solução Core Banking da Finep, Sydle One.
B5: Nome da Empresa | C5: ='Dados da Empresa'!C4
B6: CNPJ | C6: ='Dados da Empresa'!C5
B7: Item | C7: S2WEB – Implantação de novas funcionalidades para requisitos WEB
B9: Componentes de Custo do Time
B10: Identificação do Perfil Profissional | C10: Salário (S) | D10: Custo Perfil (Cp = S x Fator-k) | E10: Custo Adicionais por perfil (Ca) | F10: Custo total por perfil (Ct = Cp + Ca) | G10: Taxa de Alocação (Ta) | H10: Alocação em horas ( A = Ta x 160) | I10: Qtde. profissionais por perfil (Q) | J10: Horas por perfil (Hp = A x Q) | K10: Custo por Hora (Ch = Ct / 160) | L10: Custo Mensal do Perfil (Cm = A x Q x Ch)
C11: =IFERROR((VLOOKUP($B11,Perfis!$B$3:$E$35,2,FALSE)),"") | D11: =IFERROR(($C11*(VLOOKUP($B11,Perfis!$B$3:$E$35,4,FALSE()))),"") | E11: =IF(($D11=""),"",$L$31) | F11: =IFERROR(($E11+$D11),"") | G11: 0 | H11: =$G11*160 -> 0 | I11: 0 | J11: =$H11*$I11 -> 0 | K11: =IFERROR(TRUNC(($F11/160),2),"") | L11: =IFERROR(TRUNC(($K11*$H11*$I11),2),"") | N11: PREENCHA APENAS AS CÉLULAS EM AMARELO
C12: =IFERROR((VLOOKUP($B12,Perfis!$B$3:$E$35,2,FALSE)),"") | D12: =IFERROR(($C12*(VLOOKUP($B12,Perfis!$B$3:$E$35,4,FALSE()))),"") | E12: =IF(($D12=""),"",$L$31) | F12: =IFERROR(($E12+$D12),"") | G12: 0 | H12: =$G12*160 -> 0 | I12: 0 | J12: =$H12*$I12 -> 0 | K12: =IFERROR(TRUNC(($F12/160),2),"") | L12: =IFERROR(TRUNC(($K12*$H12*$I12),2),"")
C13: =IFERROR((VLOOKUP($B13,Perfis!$B$3:$E$35,2,FALSE)),"") | D13: =IFERROR(($C13*(VLOOKUP($B13,Perfis!$B$3:$E$35,4,FALSE()))),"") | E13: =IF(($D13=""),"",$L$31) | F13: =IFERROR(($E13+$D13),"") | G13: 0 | H13: =$G13*160 -> 0 | I13: 0 | J13: =$H13*$I13 -> 0 | K13: =IFERROR(TRUNC(($F13/160),2),"") | L13: =IFERROR(TRUNC(($K13*$H13*$I13),2),"")
C14: =IFERROR((VLOOKUP($B14,Perfis!$B$3:$E$35,2,FALSE)),"") | D14: =IFERROR(($C14*(VLOOKUP($B14,Perfis!$B$3:$E$35,4,FALSE()))),"") | E14: =IF(($D14=""),"",$L$31) | F14: =IFERROR(($E14+$D14),"") | G14: 0 | H14: =$G14*160 -> 0 | I14: 0 | J14: =$H14*$I14 -> 0 | K14: =IFERROR(TRUNC(($F14/160),2),"") | L14: =IFERROR(TRUNC(($K14*$H14*$I14),2),"")
C15: =IFERROR((VLOOKUP($B15,Perfis!$B$3:$E$35,2,FALSE)),"") | D15: =IFERROR(($C15*(VLOOKUP($B15,Perfis!$B$3:$E$35,4,FALSE()))),"") | E15: =IF(($D15=""),"",$L$31) | F15: =IFERROR(($E15+$D15),"") | G15: 0 | H15: =$G15*160 -> 0 | I15: 0 | J15: =$H15*$I15 -> 0 | K15: =IFERROR(TRUNC(($F15/160),2),"") | L15: =IFERROR(TRUNC(($K15*$H15*$I15),2),"")
C16: =IFERROR((VLOOKUP($B16,Perfis!$B$3:$E$35,2,FALSE)),"") | D16: =IFERROR(($C16*(VLOOKUP($B16,Perfis!$B$3:$E$35,4,FALSE()))),"") | E16: =IF(($D16=""),"",$L$31) | F16: =IFERROR(($E16+$D16),"") | G16: 0 | H16: =$G16*160 -> 0 | I16: 0 | J16: =$H16*$I16 -> 0 | K16: =IFERROR(TRUNC(($F16/160),2),"") | L16: =IFERROR(TRUNC(($K16*$H16*$I16),2),"")
C17: =IFERROR((VLOOKUP($B17,Perfis!$B$3:$E$35,2,FALSE)),"") | D17: =IFERROR(($C17*(VLOOKUP($B17,Perfis!$B$3:$E$35,4,FALSE()))),"") | E17: =IF(($D17=""),"",$L$31) | F17: =IFERROR(($E17+$D17),"") | G17: 0 | H17: =$G17*160 -> 0 | I17: 0 | J17: =$H17*$I17 -> 0 | K17: =IFERROR(TRUNC(($F17/160),2),"") | L17: =IFERROR(TRUNC(($K17*$H17*$I17),2),"")
C18: =IFERROR((VLOOKUP($B18,Perfis!$B$3:$E$35,2,FALSE)),"") | D18: =IFERROR(($C18*(VLOOKUP($B18,Perfis!$B$3:$E$35,4,FALSE()))),"") | E18: =IF(($D18=""),"",$L$31) | F18: =IFERROR(($E18+$D18),"") | G18: 0 | H18: =$G18*160 -> 0 | I18: 0 | J18: =$H18*$I18 -> 0 | K18: =IFERROR(TRUNC(($F18/160),2),"") | L18: =IFERROR(TRUNC(($K18*$H18*$I18),2),"")
C19: =IFERROR((VLOOKUP($B19,Perfis!$B$3:$E$35,2,FALSE)),"") | D19: =IFERROR(($C19*(VLOOKUP($B19,Perfis!$B$3:$E$35,4,FALSE()))),"") | E19: =IF(($D19=""),"",$L$31) | F19: =IFERROR(($E19+$D19),"") | G19: 0 | H19: =$G19*160 -> 0 | I19: 0 | J19: =$H19*$I19 -> 0 | K19: =IFERROR(TRUNC(($F19/160),2),"") | L19: =IFERROR(TRUNC(($K19*$H19*$I19),2),"")
C20: =IFERROR((VLOOKUP($B20,Perfis!$B$3:$E$35,2,FALSE)),"") | D20: =IFERROR(($C20*(VLOOKUP($B20,Perfis!$B$3:$E$35,4,FALSE()))),"") | E20: =IF(($D20=""),"",$L$31) | F20: =IFERROR(($E20+$D20),"") | G20: 0 | H20: =$G20*160 -> 0 | I20: 0 | J20: =$H20*$I20 -> 0 | K20: =IFERROR(TRUNC(($F20/160),2),"") | L20: =IFERROR(TRUNC(($K20*$H20*$I20),2),"")
C21: =IFERROR((VLOOKUP($B21,Perfis!$B$3:$E$35,2,FALSE)),"") | D21: =IFERROR(($C21*(VLOOKUP($B21,Perfis!$B$3:$E$35,4,FALSE()))),"") | E21: =IF(($D21=""),"",$L$31) | F21: =IFERROR(($E21+$D21),"") | G21: 0 | H21: =$G21*160 -> 0 | I21: 0 | J21: =$H21*$I21 -> 0 | K21: =IFERROR(TRUNC(($F21/160),2),"") | L21: =IFERROR(TRUNC(($K21*$H21*$I21),2),"")
B22: Total | I22: =SUM($I11:$I21) -> 0 | J22: =SUM($J11:$J21) -> 0 | K22: =TRUNC(SUM($K11:$K21),2) -> 0 | L22: =TRUNC(SUM($L11:$L21),2) -> 0
B24: Componentes de Custos Adicionais
B25: Descrição | L25: Valor Mensal
B26: Custos com software | L26: 0
B27: Custos com recursos de computação | L27: 0
B28: Custos com equipamentos | L28: 0
B29: Custos com serviços de informações | L29: 0
B30: Outros custos (especificar) | L30: 0
B31: Custos Adicionais por perfil/mês | L31: =IFERROR(TRUNC(SUM(L26:L30),2),"") -> 0
B33: Custo por Sprint | L33: =IFERROR(L22,"") -> 0

Sheet S2IA
B2: Perfis da Equipe dos Sprints - S2IA
B4: Objeto do Pregão | C4: Fornecimento de serviços de sustentação e de implantação de novas funcionalidades da solução Core Banking da Finep, Sydle One.
B5: Nome da Empresa | C5: ='Dados da Empresa'!C4
B6: CNPJ | C6: ='Dados da Empresa'!C5
B7: Item | C7: S2IA – Implantação de novas funcionalidades para requisitos de Inteligência Artificial
B9: Componentes de Custo do Time
B10: Identificação do Perfil Profissional | C10: Salário (S) | D10: Custo Perfil (Cp = S x Fator-k) | E10: Custo Adicionais por perfil (Ca) | F10: Custo total por perfil (Ct = Cp + Ca) | G10: Taxa de Alocação (Ta) | H10: Alocação em horas ( A = Ta x 160) | I10: Qtde. profissionais por perfil (Q) | J10: Horas por perfil (Hp = A x Q) | K10: Custo por Hora (Ch = Ct / 160) | L10: Custo Mensal do Perfil (Cm = A x Q x Ch)
C11: =IFERROR((VLOOKUP($B11,Perfis!$B$3:$E$35,2,FALSE)),"") | D11: =IFERROR(($C11*(VLOOKUP($B11,Perfis!$B$3:$E$35,4,FALSE()))),"") | E11: =IF(($D11=""),"",$L$31) | F11: =IFERROR(($E11+$D11),"") | G11: 0 | H11: =$G11*160 -> 0 | I11: 0 | J11: =$H11*$I11 -> 0 | K11: =IFERROR(TRUNC(($F11/160),2),"") | L11: =IFERROR(TRUNC(($K11*$H11*$I11),2),"") | N11: PREENCHA APENAS AS CÉLULAS EM AMARELO
C12: =IFERROR((VLOOKUP($B12,Perfis!$B$3:$E$35,2,FALSE)),"") | D12: =IFERROR(($C12*(VLOOKUP($B12,Perfis!$B$3:$E$35,4,FALSE()))),"") | E12: =IF(($D12=""),"",$L$31) | F12: =IFERROR(($E12+$D12),"") | G12: 0 | H12: =$G12*160 -> 0 | I12: 0 | J12: =$H12*$I12 -> 0 | K12: =IFERROR(TRUNC(($F12/160),2),"") | L12: =IFERROR(TRUNC(($K12*$H12*$I12),2),"")
C13: =IFERROR((VLOOKUP($B13,Perfis!$B$3:$E$35,2,FALSE)),"") | D13: =IFERROR(($C13*(VLOOKUP($B13,Perfis!$B$3:$E$35,4,FALSE()))),"") | E13: =IF(($D13=""),"",$L$31) | F13: =IFERROR(($E13+$D13),"") | G13: 0 | H13: =$G13*160 -> 0 | I13: 0 | J13: =$H13*$I13 -> 0 | K13: =IFERROR(TRUNC(($F13/160),2),"") | L13: =IFERROR(TRUNC(($K13*$H13*$I13),2),"")
C14: =IFERROR((VLOOKUP($B14,Perfis!$B$3:$E$35,2,FALSE)),"") | D14: =IFERROR(($C14*(VLOOKUP($B14,Perfis!$B$3:$E$35,4,FALSE()))),"") | E14: =IF(($D14=""),"",$L$31) | F14: =IFERROR(($E14+$D14),"") | G14: 0 | H14: =$G14*160 -> 0 | I14: 0 | J14: =$H14*$I14 -> 0 | K14: =IFERROR(TRUNC(($F14/160),2),"") | L14: =IFERROR(TRUNC(($K14*$H14*$I14),2),"")
C15: =IFERROR((VLOOKUP($B15,Perfis!$B$3:$E$35,2,FALSE)),"") | D15: =IFERROR(($C15*(VLOOKUP($B15,Perfis!$B$3:$E$35,4,FALSE()))),"") | E15: =IF(($D15=""),"",$L$31) | F15: =IFERROR(($E15+$D15),"") | G15: 0 | H15: =$G15*160 -> 0 | I15: 0 | J15: =$H15*$I15 -> 0 | K15: =IFERROR(TRUNC(($F15/160),2),"") | L15: =IFERROR(TRUNC(($K15*$H15*$I15),2),"")
C16: =IFERROR((VLOOKUP($B16,Perfis!$B$3:$E$35,2,FALSE)),"") | D16: =IFERROR(($C16*(VLOOKUP($B16,Perfis!$B$3:$E$35,4,FALSE()))),"") | E16: =IF(($D16=""),"",$L$31) | F16: =IFERROR(($E16+$D16),"") | G16: 0 | H16: =$G16*160 -> 0 | I16: 0 | J16: =$H16*$I16 -> 0 | K16: =IFERROR(TRUNC(($F16/160),2),"") | L16: =IFERROR(TRUNC(($K16*$H16*$I16),2),"")
C17: =IFERROR((VLOOKUP($B17,Perfis!$B$3:$E$35,2,FALSE)),"") | D17: =IFERROR(($C17*(VLOOKUP($B17,Perfis!$B$3:$E$35,4,FALSE()))),"") | E17: =IF(($D17=""),"",$L$31) | F17: =IFERROR(($E17+$D17),"") | G17: 0 | H17: =$G17*160 -> 0 | I17: 0 | J17: =$H17*$I17 -> 0 | K17: =IFERROR(TRUNC(($F17/160),2),"") | L17: =IFERROR(TRUNC(($K17*$H17*$I17),2),"")
C18: =IFERROR((VLOOKUP($B18,Perfis!$B$3:$E$35,2,FALSE)),"") | D18: =IFERROR(($C18*(VLOOKUP($B18,Perfis!$B$3:$E$35,4,FALSE()))),"") | E18: =IF(($D18=""),"",$L$31) | F18: =IFERROR(($E18+$D18),"") | G18: 0 | H18: =$G18*160 -> 0 | I18: 0 | J18: =$H18*$I18 -> 0 | K18: =IFERROR(TRUNC(($F18/160),2),"") | L18: =IFERROR(TRUNC(($K18*$H18*$I18),2),"")
C19: =IFERROR((VLOOKUP($B19,Perfis!$B$3:$E$35,2,FALSE)),"") | D19: =IFERROR(($C19*(VLOOKUP($B19,Perfis!$B$3:$E$35,4,FALSE()))),"") | E19: =IF(($D19=""),"",$L$31) | F19: =IFERROR(($E19+$D19),"") | G19: 0 | H19: =$G19*160 -> 0 | I19: 0 | J19: =$H19*$I19 -> 0 | K19: =IFERROR(TRUNC(($F19/160),2),"") | L19: =IFERROR(TRUNC(($K19*$H19*$I19),2),"")
C20: =IFERROR((VLOOKUP($B20,Perfis!$B$3:$E$35,2,FALSE)),"") | D20: =IFERROR(($C20*(VLOOKUP($B20,Perfis!$B$3:$E$35,4,FALSE()))),"") | E20: =IF(($D20=""),"",$L$31) | F20: =IFERROR(($E20+$D20),"") | G20: 0 | H20: =$G20*160 -> 0 | I20: 0 | J20: =$H20*$I20 -> 0 | K20: =IFERROR(TRUNC(($F20/160),2),"") | L20: =IFERROR(TRUNC(($K20*$H20*$I20),2),"")
C21: =IFERROR((VLOOKUP($B21,Perfis!$B$3:$E$35,2,FALSE)),"") | D21: =IFERROR(($C21*(VLOOKUP($B21,Perfis!$B$3:$E$35,4,FALSE()))),"") | E21: =IF(($D21=""),"",$L$31) | F21: =IFERROR(($E21+$D21),"") | G21: 0 | H21: =$G21*160 -> 0 | I21: 0 | J21: =$H21*$I21 -> 0 | K21: =IFERROR(TRUNC(($F21/160),2),"") | L21: =IFERROR(TRUNC(($K21*$H21*$I21),2),"")
B22: Total | I22: =SUM($I11:$I21) -> 0 | J22: =SUM($J11:$J21) -> 0 | K22: =TRUNC(SUM($K11:$K21),2) -> 0 | L22: =TRUNC(SUM($L11:$L21),2) -> 0
B24: Componentes de Custos Adicionais
B25: Descrição | L25: Valor Mensal
B26: Custos com software | L26: 0
B27: Custos com recursos de computação | L27: 0
B28: Custos com equipamentos | L28: 0
B29: Custos com serviços de informações | L29: 0
B30: Outros custos (especificar) | L30: 0
B31: Custos Adicionais por perfil/mês | L31: =IFERROR(TRUNC(SUM(L26:L30),2),"") -> 0
B33: Custo por Sprint | L33: =IFERROR(L22,"") -> 0

Sheet Planilha de Preços
B2: Planilha de Preços
B4: Objeto: Fornecimento de serviços de sustentação e de implantação de novas funcionalidades da solução Core Banking da Finep, Sydle One.
B5: Item | C5: (A) | D5: (B) | E5: (C)=(A) x (B)
C6: Quantidade máxima estimada (em meses) | D6: Valor unitário (um mês) | E6: TOTAL (para 30 meses)
B7: S1 – Sustentação | C7: 30 | D7: ='S1'!L33 -> 0 | E7: =TRUNC(D7*C7,2) -> 0
B9: Item | C9: (A) | D9: (B) | E9: (C)=(A) x (B)
C10: Quantidade máxima estimada (em sprints) | D10: Valor unitário (sprint) | E10: TOTAL (para 30 sprints)
B11: S2WEB – Implantação de novas funcionalidades para requisitos WEB | C11: 40 | D11: =S2WEB!L33 -> 0 | E11: =TRUNC(C11*D11,2) -> 0
B12: S2IA – Implantação de novas funcionalidades para requisitos de Inteligência Artificial | C12: 10 | D12: =S2IA!L33 -> 0 | E12: =TRUNC(C12*D12,2) -> 0
E14: Soma da coluna (C)
B15: Preço Global (Total S1 + Total S2WEB + Total S2IA) | E15: =E7+E11+E12 -> 0
B17: VALIDADE DA PROPOSTA: 90 (noventa) dias, a contar do dia da sessão de recebimento da mesma.
B18: O proponente declara que a proposta econômica compreende a integralidade dos custos para atendimento dos direitos trabalhistas assegurados na Constituição Federal, nas leis trabalhistas, nas normas infralegais, nas convenções coletivas de trabalho e nos termos de ajustamento de conduta vigentes na data de entrega das propostas e que foi elaborada de forma independente.

Sheet ARQSOF-01
A1: =Perfis!B3 -> Arquiteto de Software - Pleno
A3: Composição de custos
A4: MÓDULO 1 - COMPOSIÇÃO DA REMUNERAÇÃO
A5: 1 | B5: Itens de Custos (Descrição) | D5: Valor (R$)
A6: A | B6: Salário Base | C6: 1 | D6: =_xlfn.XLOOKUP(A1,Perfis!B3:B35,Perfis!C3:C35) -> 0
A7: Total da remuneração | D7: =SUM(D6) -> 0
A9: MÓDULO 2 - ENCARGOS E BENEFÍCIOS
A10: Submódulo 1 - 13º Salário, Férias e Adicional de Férias
A11: 2.1 | B11: Itens de Custos (Descrição) | C11: % | D11: Valor (R$)
A12: A | B12: 13º Salário | C12: 0.083333333 | D12: =C12*$D$7 -> 0
A13: B | B13: Férias e Adicional de Férias | C13: 0.077777778 | D13: =C13*$D$7 -> 0
A14: Total do 13º salário, Férias e adicional de férias | C14: =SUM(C12:C13) -> 0.16111111 | D14: =SUM(D12:D13) -> 0
A16: Submódulo 2 - Encargos Previdenciários, FGTS e outras contribuições
A17: 2.2 | B17: Itens de Custos (Descrição) | C17: % | D17: Valor (R$)
A18: A | B18: INSS | C18: 0.05 | D18: =C18*($D$7+$D$14) -> 0
A19: B | B19: Salário Educação | C19: 0.025 | D19: =C19*($D$7+$D$14) -> 0
A20: C | B20: SAT (Seguro Acidente de Trabalho) | C20: 0.03 | D20: =C20*($D$7+$D$14) -> 0
A21: D | B21: SESC ou SESI | C21: 0.015 | D21: =C21*($D$7+$D$14) -> 0
A22: E | B22: SENAI - SENAC | C22: 0.01 | D22: =C22*($D$7+$D$14) -> 0
A23: F | B23: SEBRAE | C23: 0.006 | D23: =C23*($D$7+$D$14) -> 0
A24: G | B24: INCRA | C24: 0.002 | D24: =C24*($D$7+$D$14) -> 0
A25: H | B25: FGTS | C25: 0.08 | D25: =C25*($D$7+$D$14) -> 0
A26: Total dos encargos previdenciários, FGTS e outras contribuições | C26: =SUM(C18:C25) -> 0.218 | D26: =SUM(D18:D25) -> 0
A28: Submódulo 3 - Benefícios Mensais e Diários
A29: 2.3 | B29: Itens de Custos (Descrição) | D29: Valor (R$)
A30: A | B30: Vale-transporte | D30: =COMPOSICAO!D20*2*22 -> 242
B31: Desconto legal sobre transporte | D31: =D6*COMPOSICAO!D21 -> 0
B32: Valor do Vale Transporte | D32: =IF(D30-D31>0,D30-D31,0) -> 242
A33: B | B33: Auxílio-alimentação | D33: =COMPOSICAO!D23*22 -> 814
B34: Desconto do Auxílio-alimentação | C34: 0 | D34: =D33*C34 -> 0
B35: Valor do Auxílio-alimentação | D35: =D33-D34 -> 814
A36: C | B36: Assistência Médica | D36: =COMPOSICAO!D31 -> 184.85
A37: Total de benefícios mensais e diários | D37: =SUM(D32,D35,D36) -> 1240.85
A39: 2 | B39: QUADRO RESUMO - ENCARGOS E BENEFÍCIOS | D39: Valor (R$)
A40: 2.1 | B40: Submódulo 2.1 - 13º Salário, Férias (custo não renovável) e Adicional de Férias | D40: =D14 -> 0
A41: 2.2 | B41: Submódulo 2.2 - Encargos Previdenciários, FGTS e outras contribuições | D41: =D26 -> 0
A42: 2.3 | B42: Submódulo 2.3 - Benefícios Mensais e Diários | D42: =D37 -> 1240.85
A43: Total dos Encargos e Benefícios | D43: =SUM(D40:D42) -> 1240.85
A45: MÓDULO 3 - PROVISÃO PARA RESCISÃO
A46: 3 | B46: Itens de Custos (Descrição) | C46: % | D46: Valor (R$)
...

Sheet ARQSOF-02
A1: =Perfis!B4 -> Arquiteto de Software - Sênior
A3: Composição de custos
A4: MÓDULO 1 - COMPOSIÇÃO DA REMUNERAÇÃO
A5: 1 | B5: Itens de Custos (Descrição) | D5: Valor (R$)
A6: A | B6: Salário Base | C6: 1 | D6: =_xlfn.XLOOKUP(A1,Perfis!B3:B35,Perfis!C3:C35) -> 0
A7: Total da remuneração | D7: =SUM(D6) -> 0
A9: MÓDULO 2 - ENCARGOS E BENEFÍCIOS
A10: Submódulo 1 - 13º Salário, Férias e Adicional de Férias
A11: 2.1 | B11: Itens de Custos (Descrição) | C11: % | D11: Valor (R$)
A12: A | B12: 13º Salário | C12: 0.083333333 | D12: =C12*$D$7 -> 0
A13: B | B13: Férias e Adicional de Férias | C13: 0.077777778 | D13: =C13*$D$7 -> 0
A14: Total do 13º salário, Férias e adicional de férias | C14: =SUM(C12:C13) -> 0.16111111 | D14: =SUM(D12:D13) -> 0
A16: Submódulo 2 - Encargos Previdenciários, FGTS e outras contribuições
A17: 2.2 | B17: Itens de Custos (Descrição) | C17: % | D17: Valor (R$)
A18: A | B18: INSS | C18: 0.05 | D18: =C18*($D$7+$D$14) -> 0
A19: B | B19: Salário Educação | C19: 0.025 | D19: =C19*($D$7+$D$14) -> 0
A20: C | B20: SAT (Seguro Acidente de Trabalho) | C20: 0.03 | D20: =C20*($D$7+$D$14) -> 0
A21: D | B21: SESC ou SESI | C21: 0.015 | D21: =C21*($D$7+$D$14) -> 0
A22: E | B22: SENAI - SENAC | C22: 0.01 | D22: =C22*($D$7+$D$14) -> 0
A23: F | B23: SEBRAE | C23: 0.006 | D23: =C23*($D$7+$D$14) -> 0
A24: G | B24: INCRA | C24: 0.002 | D24: =C24*($D$7+$D$14) -> 0
A25: H | B25: FGTS | C25: 0.08 | D25: =C25*($D$7+$D$14) -> 0
A26: Total dos encargos previdenciários, FGTS e outras contribuições | C26: =SUM(C18:C25) -> 0.218 | D26: =SUM(D18:D25) -> 0
A28: Submódulo 3 - Benefícios Mensais e Diários
A29: 2.3 | B29: Itens de Custos (Descrição) | D29: Valor (R$)
A30: A | B30: Vale-transporte | D30: =COMPOSICAO!D20*2*22 -> 242
B31: Desconto legal sobre transporte | D31: =D6*COMPOSICAO!D21 -> 0
B32: Valor do Vale Transporte | D32: =IF(D30-D31>0,D30-D31,0) -> 242
A33: B | B33: Auxílio-alimentação | D33: =COMPOSICAO!D23*22 -> 814
B34: Desconto do Auxílio-alimentação | C34: 0 | D34: =D33*C34 -> 0
B35: Valor do Auxílio-alimentação | D35: =D33-D34 -> 814
A36: C | B36: Assistência Médica | D36: =COMPOSICAO!D31 -> 184.85
A37: Total de benefícios mensais e diários | D37: =SUM(D32,D35,D36) -> 1240.85
A39: 2 | B39: QUADRO RESUMO - ENCARGOS E BENEFÍCIOS | D39: Valor (R$)
A40: 2.1 | B40: Submódulo 2.1 - 13º Salário, Férias (custo não renovável) e Adicional de Férias | D40: =D14 -> 0
A41: 2.2 | B41: Submódulo 2.2 - Encargos Previdenciários, FGTS e outras contribuições | D41: =D26 -> 0
A42: 2.3 | B42: Submódulo 2.3 - Benefícios Mensais e Diários | D42: =D37 -> 1240.85
A43: Total dos Encargos e Benefícios | D43: =SUM(D40:D42) -> 1240.85
A45: MÓDULO 3 - PROVISÃO PARA RESCISÃO
A46: 3 | B46: Itens de Custos (Descrição) | C46: % | D46: Valor (R$)
...

Sheet ATQ-01
A1: =Perfis!B5 -> Analista de Testes/Qualidade - Júnior
A3: Composição de custos
A4: MÓDULO 1 - COMPOSIÇÃO DA REMUNERAÇÃO
A5: 1 | B5: Itens de Custos (Descrição) | D5: Valor (R$)
A6: A | B6: Salário Base | C6: 1 | D6: =_xlfn.XLOOKUP(A1,Perfis!B3:B35,Perfis!C3:C35) -> 0
A7: Total da remuneração | D7: =SUM(D6) -> 0
A9: MÓDULO 2 - ENCARGOS E BENEFÍCIOS
A10: Submódulo 1 - 13º Salário, Férias e Adicional de Férias
A11: 2.1 | B11: Itens de Custos (Descrição) | C11: % | D11: Valor (R$)
A12: A | B12: 13º Salário | C12: 0.083333333 | D12: =C12*$D$7 -> 0
A13: B | B13: Férias e Adicional de Férias | C13: 0.077777778 | D13: =C13*$D$7 -> 0
A14: Total do 13º salário, Férias e adicional de férias | C14: =SUM(C12:C13) -> 0.16111111 | D14: =SUM(D12:D13) -> 0
A16: Submódulo 2 - Encargos Previdenciários, FGTS e outras contribuições
A17: 2.2 | B17: Itens de Custos (Descrição) | C17: % | D17: Valor (R$)
A18: A | B18: INSS | C18: 0.05 | D18: =C18*($D$7+$D$14) -> 0
A19: B | B19: Salário Educação | C19: 0.025 | D19: =C19*($D$7+$D$14) -> 0
A20: C | B20: SAT (Seguro Acidente de Trabalho) | C20: 0.03 | D20: =C20*($D$7+$D$14) -> 0
A21: D | B21: SESC ou SESI | C21: 0.015 | D21: =C21*($D$7+$D$14) -> 0
A22: E | B22: SENAI - SENAC | C22: 0.01 | D22: =C22*($D$7+$D$14) -> 0
A23: F | B23: SEBRAE | C23: 0.006 | D23: =C23*($D$7+$D$14) -> 0
A24: G | B24: INCRA | C24: 0.002 | D24: =C24*($D$7+$D$14) -> 0
A25: H | B25: FGTS | C25: 0.08 | D25: =C25*($D$7+$D$14) -> 0
A26: Total dos encargos previdenciários, FGTS e outras contribuições | C26: =SUM(C18:C25) -> 0.218 | D26: =SUM(D18:D25) -> 0
A28: Submódulo 3 - Benefícios Mensais e Diários
A29: 2.3 | B29: Itens de Custos (Descrição) | D29: Valor (R$)
A30: A | B30: Vale-transporte | D30: =COMPOSICAO!D20*2*22 -> 242
B31: Desconto legal sobre transporte | D31: =D6*COMPOSICAO!D21 -> 0
B32: Valor do Vale Transporte | D32: =IF(D30-D31>0,D30-D31,0) -> 242
A33: B | B33: Auxílio-alimentação | D33: =COMPOSICAO!D23*22 -> 814
B34: Desconto do Auxílio-alimentação | C34: 0 | D34: =D33*C34 -> 0
B35: Valor do Auxílio-alimentação | D35: =D33-D34 -> 814
A36: C | B36: Assistência Médica | D36: =COMPOSICAO!D31 -> 184.85
A37: Total de benefícios mensais e diários | D37: =SUM(D32,D35,D36) -> 1240.85
A39: 2 | B39: QUADRO RESUMO - ENCARGOS E BENEFÍCIOS | D39: Valor (R$)
A40: 2.1 | B40: Submódulo 2.1 - 13º Salário, Férias (custo não renovável) e Adicional de Férias | D40: =D14 -> 0
A41: 2.2 | B41: Submódulo 2.2 - Encargos Previdenciários, FGTS e outras contribuições | D41: =D26 -> 0
A42: 2.3 | B42: Submódulo 2.3 - Benefícios Mensais e Diários | D42: =D37 -> 1240.85
A43: Total dos Encargos e Benefícios | D43: =SUM(D40:D42) -> 1240.85
A45: MÓDULO 3 - PROVISÃO PARA RESCISÃO
A46: 3 | B46: Itens de Custos (Descrição) | C46: % | D46: Valor (R$)
...

Sheet ATQ-02
A1: =Perfis!B6 -> Analista de Testes/Qualidade - Pleno
A3: Composição de custos
A4: MÓDULO 1 - COMPOSIÇÃO DA REMUNERAÇÃO
A5: 1 | B5: Itens de Custos (Descrição) | D5: Valor (R$)
A6: A | B6: Salário Base | C6: 1 | D6: =_xlfn.XLOOKUP(A1,Perfis!B3:B35,Perfis!C3:C35) -> 0
A7: Total da remuneração | D7: =SUM(D6) -> 0
A9: MÓDULO 2 - ENCARGOS E BENEFÍCIOS
A10: Submódulo 1 - 13º Salário, Férias e Adicional de Férias
A11: 2.1 | B11: Itens de Custos (Descrição) | C11: % | D11: Valor (R$)
A12: A | B12: 13º Salário | C12: 0.083333333 | D12: =C12*$D$7 -> 0
A13: B | B13: Férias e Adicional de Férias | C13: 0.077777778 | D13: =C13*$D$7 -> 0
A14: Total do 13º salário, Férias e adicional de férias | C14: =SUM(C12:C13) -> 0.16111111 | D14: =SUM(D12:D13) -> 0
A16: Submódulo 2 - Encargos Previdenciários, FGTS e outras contribuições
A17: 2.2 | B17: Itens de Custos (Descrição) | C17: % | D17: Valor (R$)
A18: A | B18: INSS | C18: 0.05 | D18: =C18*($D$7+$D$14) -> 0
A19: B | B19: Salário Educação | C19: 0.025 | D19: =C19*($D$7+$D$14) -> 0
A20: C | B20: SAT (Seguro Acidente de Trabalho) | C20: 0.03 | D20: =C20*($D$7+$D$14) -> 0
A21: D | B21: SESC ou SESI | C21: 0.015 | D21: =C21*($D$7+$D$14) -> 0
A22: E | B22: SENAI - SENAC | C22: 0.01 | D22: =C22*($D$7+$D$14) -> 0
A23: F | B23: SEBRAE | C23: 0.006 | D23: =C23*($D$7+$D$14) -> 0
A24: G | B24: INCRA | C24: 0.002 | D24: =C24*($D$7+$D$14) -> 0
A25: H | B25: FGTS | C25: 0.08 | D25: =C25*($D$7+$D$14) -> 0
A26: Total dos encargos previdenciários, FGTS e outras contribuições | C26: =SUM(C18:C25) -> 0.218 | D26: =SUM(D18:D25) -> 0
A28: Submódulo 3 - Benefícios Mensais e Diários
A29: 2.3 | B29: Itens de Custos (Descrição) | D29: Valor (R$)
A30: A | B30: Vale-transporte | D30: =COMPOSICAO!D20*2*22 -> 242
B31: Desconto legal sobre transporte | D31: =D6*COMPOSICAO!D21 -> 0
B32: Valor do Vale Transporte | D32: =IF(D30-D31>0,D30-D31,0) -> 242
A33: B | B33: Auxílio-alimentação | D33: =COMPOSICAO!D23*22 -> 814
B34: Desconto do Auxílio-alimentação | C34: 0 | D34: =D33*C34 -> 0
B35: Valor do Auxílio-alimentação | D35: =D33-D34 -> 814
A36: C | B36: Assistência Médica | D36: =COMPOSICAO!D31 -> 184.85
A37: Total de benefícios mensais e diários | D37: =SUM(D32,D35,D36) -> 1240.85
A39: 2 | B39: QUADRO RESUMO - ENCARGOS E BENEFÍCIOS | D39: Valor (R$)
A40: 2.1 | B40: Submódulo 2.1 - 13º Salário, Férias (custo não renovável) e Adicional de Férias | D40: =D14 -> 0
A41: 2.2 | B41: Submódulo 2.2 - Encargos Previdenciários, FGTS e outras contribuições | D41: =D26 -> 0
A42: 2.3 | B42: Submódulo 2.3 - Benefícios Mensais e Diários | D42: =D37 -> 1240.85
A43: Total dos Encargos e Benefícios | D43: =SUM(D40:D42) -> 1240.85
A45: MÓDULO 3 - PROVISÃO PARA RESCISÃO
A46: 3 | B46: Itens de Custos (Descrição) | C46: % | D46: Valor (R$)
...

Sheet ATQ-03
A1: =Perfis!B7 -> Analista de Testes/Qualidade - Sênior
A3: Composição de custos
A4: MÓDULO 1 - COMPOSIÇÃO DA REMUNERAÇÃO
A5: 1 | B5: Itens de Custos (Descrição) | D5: Valor (R$)
A6: A | B6: Salário Base | C6: 1 | D6: =_xlfn.XLOOKUP(A1,Perfis!B3:B35,Perfis!C3:C35) -> 0
A7: Total da remuneração | D7: =SUM(D6) -> 0
A9: MÓDULO 2 - ENCARGOS E BENEFÍCIOS
A10: Submódulo 1 - 13º Salário, Férias e Adicional de Férias
A11: 2.1 | B11: Itens de Custos (Descrição) | C11: % | D11: Valor (R$)
A12: A | B12: 13º Salário | C12: 0.083333333 | D12: =C12*$D$7 -> 0
A13: B | B13: Férias e Adicional de Férias | C13: 0.077777778 | D13: =C13*$D$7 -> 0
A14: Total do 13º salário, Férias e adicional de férias | C14: =SUM(C12:C13) -> 0.16111111 | D14: =SUM(D12:D13) -> 0
A16: Submódulo 2 - Encargos Previdenciários, FGTS e outras contribuições
A17: 2.2 | B17: Itens de Custos (Descrição) | C17: % | D17: Valor (R$)
A18: A | B18: INSS | C18: 0.05 | D18: =C18*($D$7+$D$14) -> 0
A19: B | B19: Salário Educação | C19: 0.025 | D19: =C19*($D$7+$D$14) -> 0
A20: C | B20: SAT (Seguro Acidente de Trabalho) | C20: 0.03 | D20: =C20*($D$7+$D$14) -> 0
A21: D | B21: SESC ou SESI | C21: 0.015 | D21: =C21*($D$7+$D$14) -> 0
A22: E | B22: SENAI - SENAC | C22: 0.01 | D22: =C22*($D$7+$D$14) -> 0
A23: F | B23: SEBRAE | C23: 0.006 | D23: =C23*($D$7+$D$14) -> 0
A24: G | B24: INCRA | C24: 0.002 | D24: =C24*($D$7+$D$14) -> 0
A25: H | B25: FGTS | C25: 0.08 | D25: =C25*($D$7+$D$14) -> 0
A26: Total dos encargos previdenciários, FGTS e outras contribuições | C26: =SUM(C18:C25) -> 0.218 | D26: =SUM(D18:D25) -> 0
A28: Submódulo 3 - Benefícios Mensais e Diários
A29: 2.3 | B29: Itens de Custos (Descrição) | D29: Valor (R$)
A30: A | B30: Vale-transporte | D30: =COMPOSICAO!D20*2*22 -> 242
B31: Desconto legal sobre transporte | D31: =D6*COMPOSICAO!D21 -> 0
B32: Valor do Vale Transporte | D32: =IF(D30-D31>0,D30-D31,0) -> 242
A33: B | B33: Auxílio-alimentação | D33: =COMPOSICAO!D23*22 -> 814
B34: Desconto do Auxílio-alimentação | C34: 0 | D34: =D33*C34 -> 0
B35: Valor do Auxílio-alimentação | D35: =D33-D34 -> 814
A36: C | B36: Assistência Médica | D36: =COMPOSICAO!D31 -> 184.85
A37: Total de benefícios mensais e diários | D37: =SUM(D32,D35,D36) -> 1240.85
A39: 2 | B39: QUADRO RESUMO - ENCARGOS E BENEFÍCIOS | D39: Valor (R$)
A40: 2.1 | B40: Submódulo 2.1 - 13º Salário, Férias (custo não renovável) e Adicional de Férias | D40: =D14 -> 0
A41: 2.2 | B41: Submódulo 2.2 - Encargos Previdenciários, FGTS e outras contribuições | D41: =D26 -> 0
A42: 2.3 | B42: Submódulo 2.3 - Benefícios Mensais e Diários | D42: =D37 -> 1240.85
A43: Total dos Encargos e Benefícios | D43: =SUM(D40:D42) -> 1240.85
A45: MÓDULO 3 - PROVISÃO PARA RESCISÃO
A46: 3 | B46: Itens de Custos (Descrição) | C46: % | D46: Valor (R$)
...

Sheet DESENV-01
A1: =Perfis!B8 -> Desenvolvedor de Software - Júnior
A3: Composição de custos
A4: MÓDULO 1 - COMPOSIÇÃO DA REMUNERAÇÃO
A5: 1 | B5: Itens de Custos (Descrição) | D5: Valor (R$)
A6: A | B6: Salário Base | C6: 1 | D6: =_xlfn.XLOOKUP(A1,Perfis!B3:B35,Perfis!C3:C35) -> 0
A7: Total da remuneração | D7: =SUM(D6) -> 0
A9: MÓDULO 2 - ENCARGOS E BENEFÍCIOS
A10: Submódulo 1 - 13º Salário, Férias e Adicional de Férias
A11: 2.1 | B11: Itens de Custos (Descrição) | C11: % | D11: Valor (R$)
A12: A | B12: 13º Salário | C12: 0.083333333 | D12: =C12*$D$7 -> 0
A13: B | B13: Férias e Adicional de Férias | C13: 0.077777778 | D13: =C13*$D$7 -> 0
A14: Total do 13º salário, Férias e adicional de férias | C14: =SUM(C12:C13) -> 0.16111111 | D14: =SUM(D12:D13) -> 0
A16: Submódulo 2 - Encargos Previdenciários, FGTS e outras contribuições
A17: 2.2 | B17: Itens de Custos (Descrição) | C17: % | D17: Valor (R$)
A18: A | B18: INSS | C18: 0.05 | D18: =C18*($D$7+$D$14) -> 0
A19: B | B19: Salário Educação | C19: 0.025 | D19: =C19*($D$7+$D$14) -> 0
A20: C | B20: SAT (Seguro Acidente de Trabalho) | C20: 0.03 | D20: =C20*($D$7+$D$14) -> 0
A21: D | B21: SESC ou SESI | C21: 0.015 | D21: =C21*($D$7+$D$14) -> 0
A22: E | B22: SENAI - SENAC | C22: 0.01 | D22: =C22*($D$7+$D$14) -> 0
A23: F | B23: SEBRAE | C23: 0.006 | D23: =C23*($D$7+$D$14) -> 0
A24: G | B24: INCRA | C24: 0.002 | D24: =C24*($D$7+$D$14) -> 0
A25: H | B25: FGTS | C25: 0.08 | D25: =C25*($D$7+$D$14) -> 0
A26: Total dos encargos previdenciários, FGTS e outras contribuições | C26: =SUM(C18:C25) -> 0.218 | D26: =SUM(D18:D25) -> 0
A28: Submódulo 3 - Benefícios Mensais e Diários
A29: 2.3 | B29: Itens de Custos (Descrição) | D29: Valor (R$)
A30: A | B30: Vale-transporte | D30: =COMPOSICAO!D20*2*22 -> 242
B31: Desconto legal sobre transporte | D31: =D6*COMPOSICAO!D21 -> 0
B32: Valor do Vale Transporte | D32: =IF(D30-D31>0,D30-D31,0) -> 242
A33: B | B33: Auxílio-alimentação | D33: =COMPOSICAO!D23*22 -> 814
B34: Desconto do Auxílio-alimentação | C34: 0 | D34: =D33*C34 -> 0
B35: Valor do Auxílio-alimentação | D35: =D33-D34 -> 814
A36: C | B36: Assistência Médica | D36: =COMPOSICAO!D31 -> 184.85
A37: Total de benefícios mensais e diários | D37: =SUM(D32,D35,D36) -> 1240.85
A39: 2 | B39: QUADRO RESUMO - ENCARGOS E BENEFÍCIOS | D39: Valor (R$)
A40: 2.1 | B40: Submódulo 2.1 - 13º Salário, Férias (custo não renovável) e Adicional de Férias | D40: =D14 -> 0
A41: 2.2 | B41: Submódulo 2.2 - Encargos Previdenciários, FGTS e outras contribuições | D41: =D26 -> 0
A42: 2.3 | B42: Submódulo 2.3 - Benefícios Mensais e Diários | D42: =D37 -> 1240.85
A43: Total dos Encargos e Benefícios | D43: =SUM(D40:D42) -> 1240.85
A45: MÓDULO 3 - PROVISÃO PARA RESCISÃO
A46: 3 | B46: Itens de Custos (Descrição) | C46: % | D46: Valor (R$)
...

Sheet DESENV-02
A1: =Perfis!B9 -> Desenvolvedor de Software - Pleno
A3: Composição de custos
A4: MÓDULO 1 - COMPOSIÇÃO DA REMUNERAÇÃO
A5: 1 | B5: Itens de Custos (Descrição) | D5: Valor (R$)
A6: A | B6: Salário Base | C6: 1 | D6: =_xlfn.XLOOKUP(A1,Perfis!B3:B35,Perfis!C3:C35) -> 0
A7: Total da remuneração | D7: =SUM(D6) -> 0
A9: MÓDULO 2 - ENCARGOS E BENEFÍCIOS
A10: Submódulo 1 - 13º Salário, Férias e Adicional de Férias
A11: 2.1 | B11: Itens de Custos (Descrição) | C11: % | D11: Valor (R$)
A12: A | B12: 13º Salário | C12: 0.083333333 | D12: =C12*$D$7 -> 0
A13: B | B13: Férias e Adicional de Férias | C13: 0.077777778 | D13: =C13*$D$7 -> 0
A14: Total do 13º salário, Férias e adicional de férias | C14: =SUM(C12:C13) -> 0.16111111 | D14: =SUM(D12:D13) -> 0
A16: Submódulo 2 - Encargos Previdenciários, FGTS e outras contribuições
A17: 2.2 | B17: Itens de Custos (Descrição) | C17: % | D17: Valor (R$)
A18: A | B18: INSS | C18: 0.05 | D18: =C18*($D$7+$D$14) -> 0
A19: B | B19: Salário Educação | C19: 0.025 | D19: =C19*($D$7+$D$14) -> 0
A20: C | B20: SAT (Seguro Acidente de Trabalho) | C20: 0.03 | D20: =C20*($D$7+$D$14) -> 0
A21: D | B21: SESC ou SESI | C21: 0.015 | D21: =C21*($D$7+$D$14) -> 0
A22: E | B22: SENAI - SENAC | C22: 0.01 | D22: =C22*($D$7+$D$14) -> 0
A23: F | B23: SEBRAE | C23: 0.006 | D23: =C23*($D$7+$D$14) -> 0
A24: G | B24: INCRA | C24: 0.002 | D24: =C24*($D$7+$D$14) -> 0
A25: H | B25: FGTS | C25: 0.08 | D25: =C25*($D$7+$D$14) -> 0
A26: Total dos encargos previdenciários, FGTS e outras contribuições | C26: =SUM(C18:C25) -> 0.218 | D26: =SUM(D18:D25) -> 0
A28: Submódulo 3 - Benefícios Mensais e Diários
A29: 2.3 | B29: Itens de Custos (Descrição) | D29: Valor (R$)
A30: A | B30: Vale-transporte | D30: =COMPOSICAO!D20*2*22 -> 242
B31: Desconto legal sobre transporte | D31: =D6*COMPOSICAO!D21 -> 0
B32: Valor do Vale Transporte | D32: =IF(D30-D31>0,D30-D31,0) -> 242
A33: B | B33: Auxílio-alimentação | D33: =COMPOSICAO!D23*22 -> 814
B34: Desconto do Auxílio-alimentação | C34: 0 | D34: =D33*C34 -> 0
B35: Valor do Auxílio-alimentação | D35: =D33-D34 -> 814
A36: C | B36: Assistência Médica | D36: =COMPOSICAO!D31 -> 184.85
A37: Total de benefícios mensais e diários | D37: =SUM(D32,D35,D36) -> 1240.85
A39: 2 | B39: QUADRO RESUMO - ENCARGOS E BENEFÍCIOS | D39: Valor (R$)
A40: 2.1 | B40: Submódulo 2.1 - 13º Salário, Férias (custo não renovável) e Adicional de Férias | D40: =D14 -> 0
A41: 2.2 | B41: Submódulo 2.2 - Encargos Previdenciários, FGTS e outras contribuições | D41: =D26 -> 0
A42: 2.3 | B42: Submódulo 2.3 - Benefícios Mensais e Diários | D42: =D37 -> 1240.85
A43: Total dos Encargos e Benefícios | D43: =SUM(D40:D42) -> 1240.85
A45: MÓDULO 3 - PROVISÃO PARA RESCISÃO
A46: 3 | B46: Itens de Custos (Descrição) | C46: % | D46: Valor (R$)
...

Sheet DESENV-03
A1: =Perfis!B10 -> Desenvolvedor de Software - Sênior
A3: Composição de custos
A4: MÓDULO 1 - COMPOSIÇÃO DA REMUNERAÇÃO
A5: 1 | B5: Itens de Custos (Descrição) | D5: Valor (R$)
A6: A | B6: Salário Base | C6: 1 | D6: =_xlfn.XLOOKUP(A1,Perfis!B3:B35,Perfis!C3:C35) -> 0
A7: Total da remuneração | D7: =SUM(D6) -> 0
A9: MÓDULO 2 - ENCARGOS E BENEFÍCIOS
A10: Submódulo 1 - 13º Salário, Férias e Adicional de Férias
A11: 2.1 | B11: Itens de Custos (Descrição) | C11: % | D11: Valor (R$)
A12: A | B12: 13º Salário | C12: 0.083333333 | D12: =C12*$D$7 -> 0
A13: B | B13: Férias e Adicional de Férias | C13: 0.077777778 | D13: =C13*$D$7 -> 0
A14: Total do 13º salário, Férias e adicional de férias | C14: =SUM(C12:C13) -> 0.16111111 | D14: =SUM(D12:D13) -> 0
A16: Submódulo 2 - Encargos Previdenciários, FGTS e outras contribuições
A17: 2.2 | B17: Itens de Custos (Descrição) | C17: % | D17: Valor (R$)
A18: A | B18: INSS | C18: 0.05 | D18: =C18*($D$7+$D$14) -> 0
A19: B | B19: Salário Educação | C19: 0.025 | D19: =C19*($D$7+$D$14) -> 0
A20: C | B20: SAT (Seguro Acidente de Trabalho) | C20: 0.03 | D20: =C20*($D$7+$D$14) -> 0
A21: D | B21: SESC ou SESI | C21: 0.015 | D21: =C21*($D$7+$D$14) -> 0
A22: E | B22: SENAI - SENAC | C22: 0.01 | D22: =C22*($D$7+$D$14) -> 0
A23: F | B23: SEBRAE | C23: 0.006 | D23: =C23*($D$7+$D$14) -> 0
A24: G | B24: INCRA | C24: 0.002 | D24: =C24*($D$7+$D$14) -> 0
A25: H | B25: FGTS | C25: 0.08 | D25: =C25*($D$7+$D$14) -> 0
A26: Total dos encargos previdenciários, FGTS e outras contribuições | C26: =SUM(C18:C25) -> 0.218 | D26: =SUM(D18:D25) -> 0
A28: Submódulo 3 - Benefícios Mensais e Diários
A29: 2.3 | B29: Itens de Custos (Descrição) | D29: Valor (R$)
A30: A | B30: Vale-transporte | D30: =COMPOSICAO!D20*2*22 -> 242
B31: Desconto legal sobre transporte | D31: =D6*COMPOSICAO!D21 -> 0
B32: Valor do Vale Transporte | D32: =IF(D30-D31>0,D30-D31,0) -> 242
A33: B | B33: Auxílio-alimentação | D33: =COMPOSICAO!D23*22 -> 814
B34: Desconto do Auxílio-alimentação | C34: 0 | D34: =D33*C34 -> 0
B35: Valor do Auxílio-alimentação | D35: =D33-D34 -> 814
A36: C | B36: Assistência Médica | D36: =COMPOSICAO!D31 -> 184.85
A37: Total de benefícios mensais e diários | D37: =SUM(D32,D35,D36) -> 1240.85
A39: 2 | B39: QUADRO RESUMO - ENCARGOS E BENEFÍCIOS | D39: Valor (R$)
A40: 2.1 | B40: Submódulo 2.1 - 13º Salário, Férias (custo não renovável) e Adicional de Férias | D40: =D14 -> 0
A41: 2.2 | B41: Submódulo 2.2 - Encargos Previdenciários, FGTS e outras contribuições | D41: =D26 -> 0
A42: 2.3 | B42: Submódulo 2.3 - Benefícios Mensais e Diários | D42: =D37 -> 1240.85
A43: Total dos Encargos e Benefícios | D43: =SUM(D40:D42) -> 1240.85
A45: MÓDULO 3 - PROVISÃO PARA RESCISÃO
A46: 3 | B46: Itens de Custos (Descrição) | C46: % | D46: Valor (R$)
...

Sheet ANR-01
A1: =Perfis!B11 -> Analista de Negócios/Requisitos Júnior
A3: Composição de custos
A4: MÓDULO 1 - COMPOSIÇÃO DA REMUNERAÇÃO
A5: 1 | B5: Itens de Custos (Descrição) | D5: Valor (R$)
A6: A | B6: Salário Base | C6: 1 | D6: =_xlfn.XLOOKUP(A1,Perfis!B3:B35,Perfis!C3:C35) -> 0
A7: Total da remuneração | D7: =SUM(D6) -> 0
A9: MÓDULO 2 - ENCARGOS E BENEFÍCIOS
A10: Submódulo 1 - 13º Salário, Férias e Adicional de Férias
A11: 2.1 | B11: Itens de Custos (Descrição) | C11: % | D11: Valor (R$)
A12: A | B12: 13º Salário | C12: 0.083333333 | D12: =C12*$D$7 -> 0
A13: B | B13: Férias e Adicional de Férias | C13: 0.077777778 | D13: =C13*$D$7 -> 0
A14: Total do 13º salário, Férias e adicional de férias | C14: =SUM(C12:C13) -> 0.16111111 | D14: =SUM(D12:D13) -> 0
A16: Submódulo 2 - Encargos Previdenciários, FGTS e outras contribuições
A17: 2.2 | B17: Itens de Custos (Descrição) | C17: % | D17: Valor (R$)
A18: A | B18: INSS | C18: 0.05 | D18: =C18*($D$7+$D$14) -> 0
A19: B | B19: Salário Educação | C19: 0.025 | D19: =C19*($D$7+$D$14) -> 0
A20: C | B20: SAT (Seguro Acidente de Trabalho) | C20: 0.03 | D20: =C20*($D$7+$D$14) -> 0
A21: D | B21: SESC ou SESI | C21: 0.015 | D21: =C21*($D$7+$D$14) -> 0
A22: E | B22: SENAI - SENAC | C22: 0.01 | D22: =C22*($D$7+$D$14) -> 0
A23: F | B23: SEBRAE | C23: 0.006 | D23: =C23*($D$7+$D$14) -> 0
A24: G | B24: INCRA | C24: 0.002 | D24: =C24*($D$7+$D$14) -> 0
A25: H | B25: FGTS | C25: 0.08 | D25: =C25*($D$7+$D$14) -> 0
A26: Total dos encargos previdenciários, FGTS e outras contribuições | C26: =SUM(C18:C25) -> 0.218 | D26: =SUM(D18:D25) -> 0
A28: Submódulo 3 - Benefícios Mensais e Diários
A29: 2.3 | B29: Itens de Custos (Descrição) | D29: Valor (R$)
A30: A | B30: Vale-transporte | D30: =COMPOSICAO!D20*2*22 -> 242
B31: Desconto legal sobre transporte | D31: =D6*COMPOSICAO!D21 -> 0
B32: Valor do Vale Transporte | D32: =IF(D30-D31>0,D30-D31,0) -> 242
A33: B | B33: Auxílio-alimentação | D33: =COMPOSICAO!D23*22 -> 814
B34: Desconto do Auxílio-alimentação | C34: 0 | D34: =D33*C34 -> 0
B35: Valor do Auxílio-alimentação | D35: =D33-D34 -> 814
A36: C | B36: Assistência Médica | D36: =COMPOSICAO!D31 -> 184.85
A37: Total de benefícios mensais e diários | D37: =SUM(D32,D35,D36) -> 1240.85
A39: 2 | B39: QUADRO RESUMO - ENCARGOS E BENEFÍCIOS | D39: Valor (R$)
A40: 2.1 | B40: Submódulo 2.1 - 13º Salário, Férias (custo não renovável) e Adicional de Férias | D40: =D14 -> 0
A41: 2.2 | B41: Submódulo 2.2 - Encargos Previdenciários, FGTS e outras contribuições | D41: =D26 -> 0
A42: 2.3 | B42: Submódulo 2.3 - Benefícios Mensais e Diários | D42: =D37 -> 1240.85
A43: Total dos Encargos e Benefícios | D43: =SUM(D40:D42) -> 1240.85
A45: MÓDULO 3 - PROVISÃO PARA RESCISÃO
A46: 3 | B46: Itens de Custos (Descrição) | C46: % | D46: Valor (R$)
...

Sheet ANR-02
A1: =Perfis!B12 -> Analista de Negócios/Requisitos Pleno
A3: Composição de custos
A4: MÓDULO 1 - COMPOSIÇÃO DA REMUNERAÇÃO
A5: 1 | B5: Itens de Custos (Descrição) | D5: Valor (R$)
A6: A | B6: Salário Base | C6: 1 | D6: =_xlfn.XLOOKUP(A1,Perfis!B3:B35,Perfis!C3:C35) -> 0
A7: Total da remuneração | D7: =SUM(D6) -> 0
A9: MÓDULO 2 - ENCARGOS E BENEFÍCIOS
A10: Submódulo 1 - 13º Salário, Férias e Adicional de Férias
A11: 2.1 | B11: Itens de Custos (Descrição) | C11: % | D11: Valor (R$)
A12: A | B12: 13º Salário | C12: 0.083333333 | D12: =C12*$D$7 -> 0
A13: B | B13: Férias e Adicional de Férias | C13: 0.077777778 | D13: =C13*$D$7 -> 0
A14: Total do 13º salário, Férias e adicional de férias | C14: =SUM(C12:C13) -> 0.16111111 | D14: =SUM(D12:D13) -> 0
A16: Submódulo 2 - Encargos Previdenciários, FGTS e outras contribuições
A17: 2.2 | B17: Itens de Custos (Descrição) | C17: % | D17: Valor (R$)
A18: A | B18: INSS | C18: 0.05 | D18: =C18*($D$7+$D$14) -> 0
A19: B | B19: Salário Educação | C19: 0.025 | D19: =C19*($D$7+$D$14) -> 0
A20: C | B20: SAT (Seguro Acidente de Trabalho) | C20: 0.03 | D20: =C20*($D$7+$D$14) -> 0
A21: D | B21: SESC ou SESI | C21: 0.015 | D21: =C21*($D$7+$D$14) -> 0
A22: E | B22: SENAI - SENAC | C22: 0.01 | D22: =C22*($D$7+$D$14) -> 0
A23: F | B23: SEBRAE | C23: 0.006 | D23: =C23*($D$7+$D$14) -> 0
A24: G | B24: INCRA | C24: 0.002 | D24: =C24*($D$7+$D$14) -> 0
A25: H | B25: FGTS | C25: 0.08 | D25: =C25*($D$7+$D$14) -> 0
A26: Total dos encargos previdenciários, FGTS e outras contribuições | C26: =SUM(C18:C25) -> 0.218 | D26: =SUM(D18:D25) -> 0
A28: Submódulo 3 - Benefícios Mensais e Diários
A29: 2.3 | B29: Itens de Custos (Descrição) | D29: Valor (R$)
A30: A | B30: Vale-transporte | D30: =COMPOSICAO!D20*2*22 -> 242
B31: Desconto legal sobre transporte | D31: =D6*COMPOSICAO!D21 -> 0
B32: Valor do Vale Transporte | D32: =IF(D30-D31>0,D30-D31,0) -> 242
A33: B | B33: Auxílio-alimentação | D33: =COMPOSICAO!D23*22 -> 814
B34: Desconto do Auxílio-alimentação | C34: 0 | D34: =D33*C34 -> 0
B35: Valor do Auxílio-alimentação | D35: =D33-D34 -> 814
A36: C | B36: Assistência Médica | D36: =COMPOSICAO!D31 -> 184.85
A37: Total de benefícios mensais e diários | D37: =SUM(D32,D35,D36) -> 1240.85
A39: 2 | B39: QUADRO RESUMO - ENCARGOS E BENEFÍCIOS | D39: Valor (R$)
A40: 2.1 | B40: Submódulo 2.1 - 13º Salário, Férias (custo não renovável) e Adicional de Férias | D40: =D14 -> 0
A41: 2.2 | B41: Submódulo 2.2 - Encargos Previdenciários, FGTS e outras contribuições | D41: =D26 -> 0
A42: 2.3 | B42: Submódulo 2.3 - Benefícios Mensais e Diários | D42: =D37 -> 1240.85
A43: Total dos Encargos e Benefícios | D43: =SUM(D40:D42) -> 1240.85
A45: MÓDULO 3 - PROVISÃO PARA RESCISÃO
A46: 3 | B46: Itens de Custos (Descrição) | C46: % | D46: Valor (R$)
...

Sheet ANR-03
A1: =Perfis!B13 -> Analista de Negócios/Requisitos Sênior
A3: Composição de custos
A4: MÓDULO 1 - COMPOSIÇÃO DA REMUNERAÇÃO
A5: 1 | B5: Itens de Custos (Descrição) | D5: Valor (R$)
A6: A | B6: Salário Base | C6: 1 | D6: =_xlfn.XLOOKUP(A1,Perfis!B3:B35,Perfis!C3:C35) -> 0
A7: Total da remuneração | D7: =SUM(D6) -> 0
A9: MÓDULO 2 - ENCARGOS E BENEFÍCIOS
A10: Submódulo 1 - 13º Salário, Férias e Adicional de Férias
A11: 2.1 | B11: Itens de Custos (Descrição) | C11: % | D11: Valor (R$)
A12: A | B12: 13º Salário | C12: 0.083333333 | D12: =C12*$D$7 -> 0
A13: B | B13: Férias e Adicional de Férias | C13: 0.077777778 | D13: =C13*$D$7 -> 0
A14: Total do 13º salário, Férias e adicional de férias | C14: =SUM(C12:C13) -> 0.16111111 | D14: =SUM(D12:D13) -> 0
A16: Submódulo 2 - Encargos Previdenciários, FGTS e outras contribuições
A17: 2.2 | B17: Itens de Custos (Descrição) | C17: % | D17: Valor (R$)
A18: A | B18: INSS | C18: 0.05 | D18: =C18*($D$7+$D$14) -> 0
A19: B | B19: Salário Educação | C19: 0.025 | D19: =C19*($D$7+$D$14) -> 0
A20: C | B20: SAT (Seguro Acidente de Trabalho) | C20: 0.03 | D20: =C20*($D$7+$D$14) -> 0
A21: D | B21: SESC ou SESI | C21: 0.015 | D21: =C21*($D$7+$D$14) -> 0
A22: E | B22: SENAI - SENAC | C22: 0.01 | D22: =C22*($D$7+$D$14) -> 0
A23: F | B23: SEBRAE | C23: 0.006 | D23: =C23*($D$7+$D$14) -> 0
A24: G | B24: INCRA | C24: 0.002 | D24: =C24*($D$7+$D$14) -> 0
A25: H | B25: FGTS | C25: 0.08 | D25: =C25*($D$7+$D$14) -> 0
A26: Total dos encargos previdenciários, FGTS e outras contribuições | C26: =SUM(C18:C25) -> 0.218 | D26: =SUM(D18:D25) -> 0
A28: Submódulo 3 - Benefícios Mensais e Diários
A29: 2.3 | B29: Itens de Custos (Descrição) | D29: Valor (R$)
A30: A | B30: Vale-transporte | D30: =COMPOSICAO!D20*2*22 -> 242
B31: Desconto legal sobre transporte | D31: =D6*COMPOSICAO!D21 -> 0
B32: Valor do Vale Transporte | D32: =IF(D30-D31>0,D30-D31,0) -> 242
A33: B | B33: Auxílio-alimentação | D33: =COMPOSICAO!D23*22 -> 814
B34: Desconto do Auxílio-alimentação | C34: 0 | D34: =D33*C34 -> 0
B35: Valor do Auxílio-alimentação | D35: =D33-D34 -> 814
A36: C | B36: Assistência Médica | D36: =COMPOSICAO!D31 -> 184.85
A37: Total de benefícios mensais e diários | D37: =SUM(D32,D35,D36) -> 1240.85
A39: 2 | B39: QUADRO RESUMO - ENCARGOS E BENEFÍCIOS | D39: Valor (R$)
A40: 2.1 | B40: Submódulo 2.1 - 13º Salário, Férias (custo não renovável) e Adicional de Férias | D40: =D14 -> 0
A41: 2.2 | B41: Submódulo 2.2 - Encargos Previdenciários, FGTS e outras contribuições | D41: =D26 -> 0
A42: 2.3 | B42: Submódulo 2.3 - Benefícios Mensais e Diários | D42: =D37 -> 1240.85
A43: Total dos Encargos e Benefícios | D43: =SUM(D40:D42) -> 1240.85
A45: MÓDULO 3 - PROVISÃO PARA RESCISÃO
A46: 3 | B46: Itens de Custos (Descrição) | C46: % | D46: Valor (R$)
...

Sheet ABI-01
